BEGIN:VCALENDAR
VERSION:2.0
PRODID:-//Squarespace Inc/Squarespace 6//v6//EN
BEGIN:VEVENT
UID:56d720a23c44d8d80d6c546b@squarespace.com
DTSTAMP:20160302T172032Z
DTSTART:20160802T210000Z
DTEND:20160802T220000Z
SUMMARY:Galesburg Unit
GEO:40.935244;-90.336504
LOCATION:Galesburg Labor Temple\, 2243 Grand Avenue\, Galesburg\, IL\, 6140
 1\, United States
END:VEVENT
END:VCALENDAR
