BEGIN:VCALENDAR
VERSION:2.0
PRODID:-//Squarespace Inc/Squarespace 6//v6//EN
BEGIN:VEVENT
UID:56d73ec02eeb81e5306a3acf@squarespace.com
DTSTAMP:20160302T192845Z
DTSTART:20160811T213000Z
DTEND:20160811T223000Z
SUMMARY:Peoria Unit
GEO:40.739454;-89.570558
LOCATION:VFW 2602\, 1505 East Lake Avenue\, Peoria Heights\, IL\, 61616\, U
 nited States
END:VEVENT
END:VCALENDAR
