BEGIN:VCALENDAR
VERSION:2.0
PRODID:-//Squarespace Inc/Squarespace 6//v6//EN
BEGIN:VEVENT
UID:56d71b43555986eb6b0a6b39@squarespace.com
DTSTAMP:20160302T165720Z
DTSTART:20160708T233000Z
DTEND:20160709T003000Z
SUMMARY:Construction Unit
GEO:39.743431;-89.712268
LOCATION:IBEW Local 51\, 3171 Greenhead Drive\, Springfield\, IL\, 62711\, 
 United States
END:VEVENT
END:VCALENDAR
