BEGIN:VCALENDAR
VERSION:2.0
PRODID:-//Squarespace Inc/Squarespace 6//v6//EN
BEGIN:VEVENT
UID:56d70d899f7266bd5d5fded5@squarespace.com
DTSTAMP:20160302T155847Z
DTSTART:20160706T200000Z
DTEND:20160706T210000Z
SUMMARY:Clinton Unit
GEO:40.150385;-88.943822
LOCATION:Elks Lodge #785\, 1520 E. South St.\, Clinton\, IL\, USA
END:VEVENT
END:VCALENDAR
