BEGIN:VCALENDAR
VERSION:2.0
PRODID:-//Squarespace Inc/Squarespace 6//v6//EN
BEGIN:VEVENT
UID:56d709c401dbae44c1769181@squarespace.com
DTSTAMP:20160302T154250Z
DTSTART:20160705T200000Z
DTEND:20160705T210000Z
SUMMARY:Havana Unit
GEO:41.603289;-87.518429
LOCATION:VFW\, 425 W. Ave.\, Havana\, IL\, USA
END:VEVENT
END:VCALENDAR
