BEGIN:VCALENDAR
VERSION:2.0
PRODID:-//Squarespace Inc/Squarespace 6//v6//EN
BEGIN:VEVENT
UID:56d705b29f726670cd2068a4@squarespace.com
DTSTAMP:20160302T153231Z
DTSTART:20160704T110000Z
DTEND:20160704T210000Z
SUMMARY:Independence Day - Office CLosed
END:VEVENT
END:VCALENDAR
