BEGIN:VCALENDAR
VERSION:2.0
PRODID:-//Squarespace Inc/Squarespace 6//v6//EN
BEGIN:VEVENT
UID:56d70d2b9f7266bd5d5fdb62@squarespace.com
DTSTAMP:20160302T155744Z
DTSTART:20160723T130000Z
DTEND:20160723T160000Z
SUMMARY:Executive Board
END:VEVENT
END:VCALENDAR
