BEGIN:VCALENDAR
VERSION:2.0
PRODID:-//Squarespace Inc/Squarespace 6//v6//EN
BEGIN:VEVENT
UID:56d71e4d59827e4e2351b88d@squarespace.com
DTSTAMP:20160302T171022Z
DTSTART:20160714T213000Z
DTEND:20160714T223000Z
SUMMARY:Peoria Unit
GEO:40.739454;-89.570558
LOCATION:VFW 2602\, 1505 E. Lake St.\, Peoria Heights\, IL\, USA
END:VEVENT
END:VCALENDAR
