BEGIN:VCALENDAR
VERSION:2.0
PRODID:-//Squarespace Inc/Squarespace 6//v6//EN
BEGIN:VEVENT
UID:56d71e17f699bb41e6bea00a@squarespace.com
DTSTAMP:20160302T170918Z
DTSTART:20160714T210000Z
DTEND:20160714T220000Z
SUMMARY:Decatur Unit 15
GEO:39.884232;-88.9355
LOCATION:IBEW Local 146\, 3390 North Woodford Street\, Decatur\, IL\, 62526
 \, United States
END:VEVENT
END:VCALENDAR
