BEGIN:VCALENDAR
VERSION:2.0
PRODID:-//Squarespace Inc/Squarespace 6//v6//EN
BEGIN:VEVENT
UID:56d71bccf85082043e36e73c@squarespace.com
DTSTAMP:20160302T165942Z
DTSTART:20160712T213000Z
DTEND:20160712T223000Z
SUMMARY:Champaign Unit
GEO:40.13117;-88.252501
LOCATION:VFW Post 5520\, 609 Edgebrook Drive\, Champaign\, IL\, 61820\, Uni
 ted States
END:VEVENT
END:VCALENDAR
