BEGIN:VCALENDAR
VERSION:2.0
PRODID:-//Squarespace Inc/Squarespace 6//v6//EN
BEGIN:VEVENT
UID:56d704f9b654f980b284d836@squarespace.com
DTSTAMP:20160302T152150Z
DTSTART:20160701T110000Z
DTEND:20160701T120000Z
SUMMARY:THIRD QUARTER UNION DUES
END:VEVENT
END:VCALENDAR
