BEGIN:VCALENDAR
VERSION:2.0
PRODID:-//Squarespace Inc/Squarespace 6//v6//EN
BEGIN:VEVENT
UID:56d5ffcd356fb05884beafdc@squarespace.com
DTSTAMP:20160301T204808Z
DTSTART:20160609T200000Z
DTEND:20160609T210000Z
SUMMARY:Decatur Unit
GEO:39.884232;-88.9355
LOCATION:IBEW Local 146\, 3390 North Woodford Street\, Decatur\, IL\, 62526
 \, United States
END:VEVENT
END:VCALENDAR
