BEGIN:VCALENDAR
VERSION:2.0
PRODID:-//Squarespace Inc/Squarespace 6//v6//EN
BEGIN:VEVENT
UID:56d5e1144c2f858e03648b3e@squarespace.com
DTSTAMP:20160301T183648Z
DTSTART:20160608T233000Z
DTEND:20160609T003000Z
SUMMARY:Jacksonville Unit
GEO:39.734909;-90.22799
LOCATION:AmVets Post 100\, 210 East Court Street\, Jacksonville\, IL\, 6265
 0\, United States
END:VEVENT
END:VCALENDAR
