BEGIN:VCALENDAR
VERSION:2.0
PRODID:-//Squarespace Inc/Squarespace 6//v6//EN
BEGIN:VEVENT
UID:56d5da9e8259b5034fc87fc9@squarespace.com
DTSTAMP:20160301T181016Z
DTSTART:20160607T200000Z
DTEND:20160607T210000Z
SUMMARY:Havana Unit
GEO:41.603289;-87.518429
LOCATION:VFW\, 425 W. Ave\, Havana\, IL\, USA
END:VEVENT
END:VCALENDAR
