BEGIN:VCALENDAR
VERSION:2.0
PRODID:-//Squarespace Inc/Squarespace 6//v6//EN
BEGIN:VEVENT
UID:56d5db36746fb9f273d85679@squarespace.com
DTSTAMP:20160421T202520Z
DTSTART:20160607T210000Z
DTEND:20160607T220000Z
SUMMARY:Galesburg Unit
GEO:40.935244;-90.336504
LOCATION:American Legion\, 571 E. North St.\, Galesburg\, IL
END:VEVENT
END:VCALENDAR
