BEGIN:VCALENDAR
VERSION:2.0
PRODID:-//Squarespace Inc/Squarespace 6//v6//EN
BEGIN:VEVENT
UID:56d5d2598259b5034fc82ed3@squarespace.com
DTSTAMP:20160301T174604Z
DTSTART:20160603T110000Z
DTEND:20160603T120000Z
SUMMARY:IBEW Local 51 Election
END:VEVENT
END:VCALENDAR
