BEGIN:VCALENDAR
VERSION:2.0
PRODID:-//Squarespace Inc/Squarespace 6//v6//EN
BEGIN:VEVENT
UID:56d5d81bf699bb28b722aa74@squarespace.com
DTSTAMP:20160301T175856Z
DTSTART:20160625T130000Z
DTEND:20160625T140000Z
SUMMARY:Executive Board
END:VEVENT
END:VCALENDAR
