BEGIN:VCALENDAR
VERSION:2.0
PRODID:-//Squarespace Inc/Squarespace 6//v6//EN
BEGIN:VEVENT
UID:56d5d7927c65e4e1d0291fa4@squarespace.com
DTSTAMP:20160301T175733Z
DTSTART:20160620T040000Z
DTEND:20160620T050000Z
SUMMARY:Summer Begins
END:VEVENT
END:VCALENDAR
