BEGIN:VCALENDAR
VERSION:2.0
PRODID:-//Squarespace Inc/Squarespace 6//v6//EN
BEGIN:VEVENT
UID:56d5d730d51cd43833eadbb5@squarespace.com
DTSTAMP:20160301T175514Z
DTSTART:20160619T110000Z
DTEND:20160619T120000Z
SUMMARY:Fathers Day
END:VEVENT
END:VCALENDAR
