BEGIN:VCALENDAR
VERSION:2.0
PRODID:-//Squarespace Inc/Squarespace 6//v6//EN
BEGIN:VEVENT
UID:56d5d2d6044262076452a24e@squarespace.com
DTSTAMP:20160301T173737Z
DTSTART:20160614T110000Z
DTEND:20160614T200000Z
SUMMARY:Flag Day
END:VEVENT
END:VCALENDAR
