BEGIN:VCALENDAR
VERSION:2.0
PRODID:-//Squarespace Inc/Squarespace 6//v6//EN
BEGIN:VEVENT
UID:56d5d3b607eaa03160268a50@squarespace.com
DTSTAMP:20160301T173942Z
DTSTART:20160614T220000Z
DTEND:20160614T230000Z
SUMMARY:Bloomington Unit
GEO:40.443059;-89.023341
LOCATION:IBEW Local 197\, 2407 Beich Road\, Bloomington\, IL\, 61705\, Unit
 ed States
END:VEVENT
END:VCALENDAR
