BEGIN:VCALENDAR
VERSION:2.0
PRODID:-//Squarespace Inc/Squarespace 6//v6//EN
BEGIN:VEVENT
UID:56d5d2818259b5034fc83015@squarespace.com
DTSTAMP:20160301T174443Z
DTSTART:20160611T110000Z
DTEND:20160611T210000Z
SUMMARY:IBEW Local 51 Annual Golf Scholarship Outing
GEO:40.720756;-74.000761
LOCATION:Rail Side Golf Course\, Gibson City\, IL
END:VEVENT
END:VCALENDAR
