BEGIN:VCALENDAR
VERSION:2.0
PRODID:-//Squarespace Inc/Squarespace 6//v6//EN
BEGIN:VEVENT
UID:56d5d0dd2b8dde269d8517f1@squarespace.com
DTSTAMP:20160301T172736Z
DTSTART:20160601T210000Z
DTEND:20160601T220000Z
SUMMARY:Lincoln Unit
GEO:40.148377;-89.364818
LOCATION:KC Hall\, Lincoln\, IL
END:VEVENT
END:VCALENDAR
