BEGIN:VCALENDAR
VERSION:2.0
PRODID:-//Squarespace Inc/Squarespace 6//v6//EN
BEGIN:VEVENT
UID:56d5d11760b5e975c87aee8f@squarespace.com
DTSTAMP:20160301T172852Z
DTSTART:20160601T220000Z
DTEND:20160601T230000Z
SUMMARY:LaSalle Unit
GEO:41.327869;-89.143939
LOCATION:Eagles Lodge\, 830 Harrison Street\, Peru\, IL\, 61354\, United St
 ates
END:VEVENT
END:VCALENDAR
