BEGIN:VCALENDAR
VERSION:2.0
PRODID:-//Squarespace Inc/Squarespace 6//v6//EN
BEGIN:VEVENT
UID:56c223ffb654f99dc44a57ec@squarespace.com
DTSTAMP:20160301T174831Z
DTSTART:20160508T040000Z
DTEND:20160508T050000Z
SUMMARY:Mother's Day
END:VEVENT
END:VCALENDAR
