BEGIN:VCALENDAR
VERSION:2.0
PRODID:-//Squarespace Inc/Squarespace 6//v6//EN
BEGIN:VEVENT
UID:56d5ca607c65e4b11ef236d0@squarespace.com
DTSTAMP:20160301T165956Z
DTSTART:20160505T200000Z
DTEND:20160505T210000Z
SUMMARY:Wood River Unit
GEO:38.934723;-90.154596
LOCATION:IBEW Local 649\, 4051 Humbert Road\, Alton\, IL\, 62002\, United S
 tates
END:VEVENT
END:VCALENDAR
