BEGIN:VCALENDAR
VERSION:2.0
PRODID:-//Squarespace Inc/Squarespace 6//v6//EN
BEGIN:VEVENT
UID:56d5c9b5356fb08eccc2b842@squarespace.com
DTSTAMP:20160301T165707Z
DTSTART:20160504T210000Z
DTEND:20160504T220000Z
SUMMARY:Lincoln Unit
GEO:40.148377;-89.364818
LOCATION:KC Hall\, Lincoln\, IL\, USA
END:VEVENT
END:VCALENDAR
