BEGIN:VCALENDAR
VERSION:2.0
PRODID:-//Squarespace Inc/Squarespace 6//v6//EN
BEGIN:VEVENT
UID:56d5ca161bbee023811fa490@squarespace.com
DTSTAMP:20160301T165847Z
DTSTART:20160504T220000Z
DTEND:20160504T230000Z
SUMMARY:LaSalle Unit
GEO:41.327869;-89.143939
LOCATION:Eagles Lodge\, 830 Harrison St.\, Peru\, IL\, USA
END:VEVENT
END:VCALENDAR
