BEGIN:VCALENDAR
VERSION:2.0
PRODID:-//Squarespace Inc/Squarespace 6//v6//EN
BEGIN:VEVENT
UID:56d5c960e321404ea46de041@squarespace.com
DTSTAMP:20160301T165601Z
DTSTART:20160504T200000Z
DTEND:20160504T210000Z
SUMMARY:Clinton Unit
GEO:40.150385;-88.943822
LOCATION:Elks Lodge #785\, 1520 E. South St.\, Clinton\, IL\, USA
END:VEVENT
END:VCALENDAR
