BEGIN:VCALENDAR
VERSION:2.0
PRODID:-//Squarespace Inc/Squarespace 6//v6//EN
BEGIN:VEVENT
UID:56c2243404426207ff8184da@squarespace.com
DTSTAMP:20160301T174729Z
DTSTART:20160530T110000Z
DTEND:20160530T203000Z
SUMMARY:Office Closed - Memorial Day
END:VEVENT
END:VCALENDAR
