BEGIN:VCALENDAR
VERSION:2.0
PRODID:-//Squarespace Inc/Squarespace 6//v6//EN
BEGIN:VEVENT
UID:56d5c8d74d088e5b26bb4dda@squarespace.com
DTSTAMP:20160301T165334Z
DTSTART:20160503T200000Z
DTEND:20160503T210000Z
SUMMARY:Havana Unit
GEO:41.603289;-87.518429
LOCATION:VFW\, 425 W. Avenue\, Havana\, IL\, USA
END:VEVENT
END:VCALENDAR
