BEGIN:VCALENDAR
VERSION:2.0
PRODID:-//Squarespace Inc/Squarespace 6//v6//EN
BEGIN:VEVENT
UID:56d5c91f07eaa0fb1d99ea5f@squarespace.com
DTSTAMP:20160421T202449Z
DTSTART:20160503T210000Z
DTEND:20160503T220000Z
SUMMARY:Galesburg Unit
GEO:40.951079;-90.361045
LOCATION:American Legion\, 571 E. North St.\, Galesburg\, IL\, 61401\, Unit
 ed States
END:VEVENT
END:VCALENDAR
