BEGIN:VCALENDAR
VERSION:2.0
PRODID:-//Squarespace Inc/Squarespace 6//v6//EN
BEGIN:VEVENT
UID:56c2235e59827e8effb73417@squarespace.com
DTSTAMP:20160301T180154Z
DTSTART:20160521T130000Z
DTEND:20160521T140000Z
SUMMARY:Executive Board
END:VEVENT
END:VCALENDAR
