BEGIN:VCALENDAR
VERSION:2.0
PRODID:-//Squarespace Inc/Squarespace 6//v6//EN
BEGIN:VEVENT
UID:56d5cd0601dbae5f067c7049@squarespace.com
DTSTAMP:20160301T171109Z
DTSTART:20160513T233000Z
DTEND:20160514T003000Z
SUMMARY:Construction Unit
GEO:39.743519;-89.714882
LOCATION:IBEW Local 51\, 3171 Green Head Drive\, Springfield\, IL\, 62711\, 
 United States
END:VEVENT
END:VCALENDAR
