BEGIN:VCALENDAR
VERSION:2.0
PRODID:-//Squarespace Inc/Squarespace 6//v6//EN
BEGIN:VEVENT
UID:56d5ccbd3c44d8ba8348a5df@squarespace.com
DTSTAMP:20160301T171012Z
DTSTART:20160512T213000Z
DTEND:20160512T223000Z
SUMMARY:Peoria Unit
GEO:40.739454;-89.570558
LOCATION:VFW 2602\, 1505 E. Lake St.\, Peoria Heights\, IL\, USA
END:VEVENT
END:VCALENDAR
