BEGIN:VCALENDAR
VERSION:2.0
PRODID:-//Squarespace Inc/Squarespace 6//v6//EN
BEGIN:VEVENT
UID:56d5cb364d088e8f06668eb2@squarespace.com
DTSTAMP:20160301T170335Z
DTSTART:20160510T220000Z
DTEND:20160510T230000Z
SUMMARY:Bloomington Unit
GEO:40.443059;-89.023341
LOCATION:IBEW Local 197\, 2407 Beich Road\, Bloomington\, IL\, 61705\, Unit
 ed States
END:VEVENT
END:VCALENDAR
