BEGIN:VCALENDAR
VERSION:2.0
PRODID:-//Squarespace Inc/Squarespace 6//v6//EN
BEGIN:VEVENT
UID:56d4b4c44c2f8513ee0d19f3@squarespace.com
DTSTAMP:20160229T212236Z
DTSTART:20160407T213000Z
DTEND:20160407T223000Z
SUMMARY:Springfield Unit
GEO:39.743431;-89.712268
LOCATION:IBEW Local 51\, 3171 Greenhead Drive\, Springfield\, IL\, 62711\, 
 United States
END:VEVENT
END:VCALENDAR
