BEGIN:VCALENDAR
VERSION:2.0
PRODID:-//Squarespace Inc/Squarespace 6//v6//EN
BEGIN:VEVENT
UID:56d4b41f2b8ddea29eb2490a@squarespace.com
DTSTAMP:20160229T212117Z
DTSTART:20160406T210000Z
DTEND:20160406T220000Z
SUMMARY:Lincoln Unit
GEO:40.148377;-89.364818
LOCATION:KC Hall\, Lincoln\, IL
END:VEVENT
END:VCALENDAR
