BEGIN:VCALENDAR
VERSION:2.0
PRODID:-//Squarespace Inc/Squarespace 6//v6//EN
BEGIN:VEVENT
UID:56d4b455859fd0a68851b4da@squarespace.com
DTSTAMP:20160229T212143Z
DTSTART:20160406T220000Z
DTEND:20160406T230000Z
SUMMARY:LaSalle Unit
GEO:41.327869;-89.143939
LOCATION:Eagles Lodge\, 830 Harrison St.\, Peru\, IL\, USA
END:VEVENT
END:VCALENDAR
