BEGIN:VCALENDAR
VERSION:2.0
PRODID:-//Squarespace Inc/Squarespace 6//v6//EN
BEGIN:VEVENT
UID:56d4b365e707eb7a02e4c1e1@squarespace.com
DTSTAMP:20160229T212011Z
DTSTART:20160405T200000Z
DTEND:20160405T210000Z
SUMMARY:Havana Unit
GEO:41.603289;-87.518429
LOCATION:VFW\, 425 W. Avenue\, Havana\, IL\, USA
END:VEVENT
END:VCALENDAR
