BEGIN:VCALENDAR
VERSION:2.0
PRODID:-//Squarespace Inc/Squarespace 6//v6//EN
BEGIN:VEVENT
UID:56d4b3b31d07c014ff430185@squarespace.com
DTSTAMP:20160229T212038Z
DTSTART:20160405T210000Z
DTEND:20160405T220000Z
SUMMARY:Galesburg Unit
GEO:40.935244;-90.336504
LOCATION:Galesburg Labor Temple\, 2243 Grand Ave.\, Galesburg\, IL\, USA
END:VEVENT
END:VCALENDAR
