BEGIN:VCALENDAR
VERSION:2.0
PRODID:-//Squarespace Inc/Squarespace 6//v6//EN
BEGIN:VEVENT
UID:56c222fdb6aa60cc0134957a@squarespace.com
DTSTAMP:20160301T180118Z
DTSTART:20160423T130000Z
DTEND:20160423T140000Z
SUMMARY:Executive Board
GEO:39.743431;-89.712268
LOCATION:IBEW Local 51\, 3171 Greenhead Drive\, Springfield\, IL\, 62711\, 
 United States
END:VEVENT
END:VCALENDAR
