BEGIN:VCALENDAR
VERSION:2.0
PRODID:-//Squarespace Inc/Squarespace 6//v6//EN
BEGIN:VEVENT
UID:56d4b7ac8259b57a20204fd8@squarespace.com
DTSTAMP:20160229T212801Z
DTSTART:20160414T213000Z
DTEND:20160414T223000Z
SUMMARY:Peoria Unit
GEO:40.739454;-89.570558
LOCATION:VFW 2602\, 1505 E. Lake St.\, Peoria Heights\, IL\, USA
END:VEVENT
END:VCALENDAR
