BEGIN:VCALENDAR
VERSION:2.0
PRODID:-//Squarespace Inc/Squarespace 6//v6//EN
BEGIN:VEVENT
UID:56d4b730b09f9572538d5850@squarespace.com
DTSTAMP:20160229T212554Z
DTSTART:20160414T200000Z
DTEND:20160414T210000Z
SUMMARY:Decatur Unit
GEO:39.884232;-88.9355
LOCATION:IBEW Local 146\, 3390 N. Woodford St.\, Decatur\, IL\, USA
END:VEVENT
END:VCALENDAR
