BEGIN:VCALENDAR
VERSION:2.0
PRODID:-//Squarespace Inc/Squarespace 6//v6//EN
BEGIN:VEVENT
UID:56d4b7701bbee0d5a2ed754d@squarespace.com
DTSTAMP:20160229T212651Z
DTSTART:20160414T210000Z
DTEND:20160414T220000Z
SUMMARY:Decatur Unit 15
GEO:39.884232;-88.9355
LOCATION:IBEW Local 146\, 3390 N. Woodford St.\, Decatur\, IL\, USA
END:VEVENT
END:VCALENDAR
