BEGIN:VCALENDAR
VERSION:2.0
PRODID:-//Squarespace Inc/Squarespace 6//v6//EN
BEGIN:VEVENT
UID:56d4b577859fd0a68851c115@squarespace.com
DTSTAMP:20160229T212421Z
DTSTART:20160413T200000Z
DTEND:20160413T210000Z
SUMMARY:Baldwin Unit
GEO:38.325745;-89.878519
LOCATION:The Bullpen\, 101 N. VanBuren St.\, New Athens\, IL\, USA
END:VEVENT
END:VCALENDAR
