BEGIN:VCALENDAR
VERSION:2.0
PRODID:-//Squarespace Inc/Squarespace 6//v6//EN
BEGIN:VEVENT
UID:56d4b5194d088e0ea4716a0d@squarespace.com
DTSTAMP:20160229T212333Z
DTSTART:20160412T213000Z
DTEND:20160412T223000Z
SUMMARY:Champaign Unit
GEO:40.130829;-88.252935
LOCATION:VFW Post 5520\, 609 Edgebrook Dr.\, Champaign\, IL\, USA
END:VEVENT
END:VCALENDAR
