BEGIN:VCALENDAR
VERSION:2.0
PRODID:-//Squarespace Inc/Squarespace 6//v6//EN
BEGIN:VEVENT
UID:56c223cbe32140f285187323@squarespace.com
DTSTAMP:20160215T191559Z
DTSTART:20160401T110000Z
DTEND:20160401T120000Z
SUMMARY:2ND QTR UNION DUES
END:VEVENT
END:VCALENDAR
