BEGIN:VCALENDAR
VERSION:2.0
PRODID:-//Squarespace Inc/Squarespace 6//v6//EN
BEGIN:VEVENT
UID:56dd9810e32140a3347b3f9a@squarespace.com
DTSTAMP:20160307T150333Z
DTSTART:20160310T003000Z
DTEND:20160310T013000Z
SUMMARY:Jacksonville Unit
GEO:39.734909;-90.22799
LOCATION:AmVets Post 100\, 210 East Court Street\, Jacksonville\, IL\, 6265
 0\, United States
END:VEVENT
END:VCALENDAR
