BEGIN:VCALENDAR
VERSION:2.0
PRODID:-//Squarespace Inc/Squarespace 6//v6//EN
BEGIN:VEVENT
UID:56c2201345bf212423b13eec@squarespace.com
DTSTAMP:20160215T190024Z
DTSTART:20160309T210000Z
DTEND:20160309T220000Z
SUMMARY:Baldwin Unit
GEO:38.325745;-89.878519
LOCATION:Bullpen\, 101 N. Van Buren  St.\, New Athens\, IL\, US
END:VEVENT
END:VCALENDAR
